BEGIN:VCALENDAR
VERSION:2.0
PRODID:-//CDU Gemeindeverband Dornum - ECPv6.15.20//NONSGML v1.0//EN
CALSCALE:GREGORIAN
METHOD:PUBLISH
X-ORIGINAL-URL:https://cdu-dornum.de
X-WR-CALDESC:Veranstaltungen für CDU Gemeindeverband Dornum
REFRESH-INTERVAL;VALUE=DURATION:PT1H
X-Robots-Tag:noindex
X-PUBLISHED-TTL:PT1H
BEGIN:VTIMEZONE
TZID:UTC
BEGIN:STANDARD
TZOFFSETFROM:+0000
TZOFFSETTO:+0000
TZNAME:UTC
DTSTART:20240101T000000
END:STANDARD
END:VTIMEZONE
BEGIN:VEVENT
DTSTART;TZID=UTC:20250913T110000
DTEND;TZID=UTC:20250913T150000
DTSTAMP:20260423T135648
CREATED:20250817T082649Z
LAST-MODIFIED:20250817T082949Z
UID:366-1757761200-1757775600@cdu-dornum.de
SUMMARY:Sommerfest der CDU Dornum in Westeraccum
DESCRIPTION:Wir möchten mit der hiesigen Bevölkerung\, in ungezwungener Atmosphäre\, ins Gespräch kommen… Was läuft gut in der Gemeinde Dornum? Wo gilt es zeitnah gezielt nach zusteuern? Was für Erwartungen gilt es zu erfüllen? Kommt gerne am Samstag den 13.09. 2025 ab 11 Uhr in Westeraccum vorbei!
URL:https://cdu-dornum.de/event/sommerfest-der-cdu-dornum-in-westeraccum/
LOCATION:Vereinsheim in Westeraccum\, Butenhusener Str. 13a\, Westeraccum\, Niedersachsen\, 26553\, Germany
END:VEVENT
END:VCALENDAR